BEGIN:VCALENDAR
VERSION:2.0
PRODID:-//jEvents 2.0 for Joomla//EN
CALSCALE:GREGORIAN
METHOD:PUBLISH
BEGIN:VEVENT
UID:67e77eab28a8483d65fe48bf2bb64f9a
CATEGORIES:Vereine
CREATED:20240410T124603
SUMMARY:Showtanz KVG
DESCRIPTION:
DTSTAMP:20260421T223800
DTSTART:20250107T173000
DTEND:20250107T193000
SEQUENCE:0
TRANSP:OPAQUE
END:VEVENT
END:VCALENDAR