BEGIN:VCALENDAR
VERSION:2.0
PRODID:-//jEvents 2.0 for Joomla//EN
CALSCALE:GREGORIAN
METHOD:PUBLISH
BEGIN:VEVENT
UID:2c5d1d560dd849a606ac8c3561b2c0e4
CATEGORIES:Vereine
CREATED:20240410T124325
SUMMARY:Minifunken KVG
DESCRIPTION:
DTSTAMP:20260422T002940
DTSTART:20241210T160000
DTEND:20241210T170000
SEQUENCE:0
TRANSP:OPAQUE
END:VEVENT
END:VCALENDAR