BEGIN:VCALENDAR
VERSION:2.0
PRODID:-//jEvents 2.0 for Joomla//EN
CALSCALE:GREGORIAN
METHOD:PUBLISH
BEGIN:VEVENT
UID:a4c186cd3c9aebc689b9db1a837cbf21
CATEGORIES:Vereine
CREATED:20240326T105422
SUMMARY:Zwergengruppe KVG
LOCATION:Gemeindehaus
DESCRIPTION:
CONTACT:Carina Junglas
DTSTAMP:20260421T215707
DTSTART:20250113T150000
DTEND:20250113T160000
SEQUENCE:0
TRANSP:OPAQUE
END:VEVENT
END:VCALENDAR