BEGIN:VCALENDAR
VERSION:2.0
PRODID:-//jEvents 2.0 for Joomla//EN
CALSCALE:GREGORIAN
METHOD:PUBLISH
BEGIN:VEVENT
UID:5171c73d4049c15de8bbdfef2d25717c
CATEGORIES:Vereine
CREATED:20231024T115735
SUMMARY:KV Gamlen Kindertanzgruppe
DESCRIPTION:Kindertanzgruppe Eva Steffens\n
X-ALT-DESC;FMTTYPE=text/html:<p>Kindertanzgruppe Eva Steffens</p>
DTSTAMP:20260422T222914
DTSTART:20231129T140000
DTEND:20231129T150000
SEQUENCE:0
TRANSP:OPAQUE
END:VEVENT
END:VCALENDAR