BEGIN:VCALENDAR
VERSION:2.0
PRODID:-//jEvents 2.0 for Joomla//EN
CALSCALE:GREGORIAN
METHOD:PUBLISH
BEGIN:VEVENT
UID:9e9c4da8543cdfb1bfd72fd36a11218e
CATEGORIES:Vereine
CREATED:20231024T105208
SUMMARY:SV Kaifenheim Jumping
DESCRIPTION:<p>SV Kaifenheim Jumping</p><p>Jonas Junglas<br />Breslauer Str. 11<br />60
 598 Frankfurt am Main</p>
DTSTAMP:20260422T224830
DTSTART:20231124T150000
DTEND:20231124T180000
SEQUENCE:0
TRANSP:OPAQUE
END:VEVENT
END:VCALENDAR