BEGIN:VCALENDAR
VERSION:2.0
PRODID:-//jEvents 2.0 for Joomla//EN
CALSCALE:GREGORIAN
METHOD:PUBLISH
BEGIN:VEVENT
UID:a7e3f0b43175255dab5c24a182bfecda
CATEGORIES:Vereine
CREATED:20231024T103556
SUMMARY:KV Gamlen Garde-Nachwuchs
DESCRIPTION:Garde Nachwuchs (Gruppe Mara)\n
X-ALT-DESC;FMTTYPE=text/html:<p>Garde Nachwuchs (Gruppe Mara)</p>
DTSTAMP:20260421T224129
DTSTART:20240109T160000
DTEND:20240109T170000
SEQUENCE:0
TRANSP:OPAQUE
END:VEVENT
END:VCALENDAR