BEGIN:VCALENDAR
VERSION:2.0
PRODID:-//jEvents 2.0 for Joomla//EN
CALSCALE:GREGORIAN
METHOD:PUBLISH
BEGIN:VEVENT
UID:0c83124e8f3c26f25fb3d32dbf85e2cf
CATEGORIES:Vereine
CREATED:20231024T103343
SUMMARY:KVG Gamlen Garde
DESCRIPTION:Garde und Showtanz (Gruppe Melina)\n
X-ALT-DESC;FMTTYPE=text/html:<p>Garde und Showtanz (Gruppe Melina)</p>
DTSTAMP:20260422T020609
DTSTART:20240124T150000
DTEND:20240124T170000
SEQUENCE:0
TRANSP:OPAQUE
END:VEVENT
END:VCALENDAR