BEGIN:VCALENDAR
VERSION:2.0
PRODID:-//jEvents 2.0 for Joomla//EN
CALSCALE:GREGORIAN
METHOD:PUBLISH
BEGIN:VEVENT
UID:1ea123a0c67ad3031de1b691db701eb2
CATEGORIES:Gemeindehaus
CREATED:20240828T102717
SUMMARY:St. Martin
DESCRIPTION:
DTSTAMP:20260424T224302
DTSTART;VALUE=DATE:20241108
DTEND;VALUE=DATE:20241109
SEQUENCE:0
TRANSP:OPAQUE
END:VEVENT
END:VCALENDAR