BEGIN:VCALENDAR
VERSION:2.0
PRODID:-//jEvents 2.0 for Joomla//EN
CALSCALE:GREGORIAN
METHOD:PUBLISH
BEGIN:VEVENT
UID:730913b076124baa8e4fb8059ce832ee
CATEGORIES:Brohlbachstübchen
CREATED:20240419T101539
SUMMARY:Wandergruppe
DESCRIPTION:
DTSTAMP:20260424T193022
DTSTART:20240710T130000
SEQUENCE:0
TRANSP:OPAQUE
END:VEVENT
END:VCALENDAR