BEGIN:VCALENDAR
VERSION:2.0
PRODID:-//jEvents 2.0 for Joomla//EN
CALSCALE:GREGORIAN
METHOD:PUBLISH
BEGIN:VEVENT
UID:67e77eab28a8483d65fe48bf2bb64f9a
CATEGORIES:Vereine
CREATED:19700101T010000
SUMMARY:Showtanz KVG
DESCRIPTION:
DTSTAMP:20260422T003456
DTSTART:20240416T163000
DTEND:20240416T183000
SEQUENCE:0
RRULE:FREQ=WEEKLY;UNTIL=20250312T000000Z;INTERVAL=1;BYDAY=TU
TRANSP:OPAQUE
END:VEVENT
END:VCALENDAR