BEGIN:VCALENDAR
VERSION:2.0
PRODID:-//jEvents 2.0 for Joomla//EN
CALSCALE:GREGORIAN
METHOD:PUBLISH
BEGIN:VEVENT
UID:2c5d1d560dd849a606ac8c3561b2c0e4
CATEGORIES:Vereine
CREATED:19700101T010000
SUMMARY:Minifunken KVG
DESCRIPTION:
DTSTAMP:20260422T020949
DTSTART:20240416T150000
DTEND:20240416T160000
SEQUENCE:0
RRULE:FREQ=WEEKLY;UNTIL=20250312T000000Z;INTERVAL=1;BYDAY=TU
TRANSP:OPAQUE
END:VEVENT
END:VCALENDAR