BEGIN:VCALENDAR
VERSION:2.0
PRODID:-//jEvents 2.0 for Joomla//EN
CALSCALE:GREGORIAN
METHOD:PUBLISH
BEGIN:VEVENT
UID:a4c186cd3c9aebc689b9db1a837cbf21
CATEGORIES:Vereine
CREATED:19700101T010000
SUMMARY:Zwergengruppe KVG
LOCATION:Gemeindehaus
DESCRIPTION:
CONTACT:Carina Junglas
DTSTAMP:20260421T215621
DTSTART:20240401T140000
DTEND:20240401T150000
SEQUENCE:0
RRULE:FREQ=WEEKLY;UNTIL=20250327T000000Z;INTERVAL=1;BYDAY=MO
TRANSP:OPAQUE
END:VEVENT
END:VCALENDAR