BEGIN:VCALENDAR
VERSION:2.0
PRODID:-//jEvents 2.0 for Joomla//EN
CALSCALE:GREGORIAN
METHOD:PUBLISH
BEGIN:VEVENT
UID:51ad287bdbd97181b265ad7f730959fe
CATEGORIES:Gemeindehaus
CREATED:20240319T134410
SUMMARY:Vater Kind Wanderung
DESCRIPTION:
DTSTAMP:20260423T182248
DTSTART:20240420T060000
DTEND:20240420T150000
SEQUENCE:0
TRANSP:OPAQUE
END:VEVENT
END:VCALENDAR