BEGIN:VCALENDAR
VERSION:2.0
PRODID:-//jEvents 2.0 for Joomla//EN
CALSCALE:GREGORIAN
METHOD:PUBLISH
BEGIN:VEVENT
UID:c4ec52dd9d8acfc4b1aa1d113292a3eb
CATEGORIES:Vereine
CREATED:20240319T134306
SUMMARY:JHV DSC
DESCRIPTION:
DTSTAMP:20260421T223702
DTSTART:20240403T170000
DTEND:20240403T200000
SEQUENCE:0
TRANSP:OPAQUE
END:VEVENT
END:VCALENDAR