BEGIN:VCALENDAR
VERSION:2.0
PRODID:-//jEvents 2.0 for Joomla//EN
CALSCALE:GREGORIAN
METHOD:PUBLISH
BEGIN:VEVENT
UID:f440be8459d32ad3c6e02bde77522810
CATEGORIES:Brohlbachstübchen
CREATED:20240117T180034
SUMMARY:Taufe
DESCRIPTION:
DTSTAMP:20260422T152445
DTSTART;VALUE=DATE:20240324
DTEND;VALUE=DATE:20240325
SEQUENCE:0
TRANSP:OPAQUE
END:VEVENT
END:VCALENDAR