BEGIN:VCALENDAR
VERSION:2.0
PRODID:-//jEvents 2.0 for Joomla//EN
CALSCALE:GREGORIAN
METHOD:PUBLISH
BEGIN:VEVENT
UID:657cea5d71af8b4a72d4ccf981e74a71
CATEGORIES:Brohlbachstübchen
CREATED:20231205T122856
SUMMARY:Vermietung SG Hambuch
DESCRIPTION:
DTSTAMP:20260424T120443
DTSTART;VALUE=DATE:20240106
DTEND;VALUE=DATE:20240107
SEQUENCE:0
TRANSP:OPAQUE
END:VEVENT
END:VCALENDAR