BEGIN:VCALENDAR
VERSION:2.0
PRODID:-//jEvents 2.0 for Joomla//EN
CALSCALE:GREGORIAN
METHOD:PUBLISH
BEGIN:VEVENT
UID:b4ffc33ada16a85ab5b78fc1721742a6
CATEGORIES:Gemeindehaus
CREATED:20231109T141626
SUMMARY:Hochzeit
DESCRIPTION:
DTSTAMP:20260425T042405
DTSTART;VALUE=DATE:20241012
DTEND;VALUE=DATE:20241013
SEQUENCE:0
TRANSP:OPAQUE
END:VEVENT
END:VCALENDAR