BEGIN:VCALENDAR
VERSION:2.0
PRODID:-//jEvents 2.0 for Joomla//EN
CALSCALE:GREGORIAN
METHOD:PUBLISH
BEGIN:VEVENT
UID:719f073ce32783797a2835e296cc4b96
CATEGORIES:Gemeindehaus
CREATED:20231025T140533
SUMMARY:DSC Versammlung
DESCRIPTION:Sitzungssaal\n
X-ALT-DESC;FMTTYPE=text/html:<p>Sitzungssaal</p>
DTSTAMP:20260422T054342
DTSTART:20231103T180000
DTEND:20231103T210000
SEQUENCE:0
TRANSP:OPAQUE
END:VEVENT
END:VCALENDAR