BEGIN:VCALENDAR
VERSION:2.0
PRODID:-//jEvents 2.0 for Joomla//EN
CALSCALE:GREGORIAN
METHOD:PUBLISH
BEGIN:VEVENT
UID:e8b20a239041b5e983443af01a3555a9
CATEGORIES:Vereine
CREATED:19700101T010000
SUMMARY:Pound Up
DESCRIPTION:Frauen //  Sabine Schmitz\n
X-ALT-DESC;FMTTYPE=text/html:<p>Frauen //  Sabine Schmitz</p>
DTSTAMP:20260421T212330
DTSTART:20231026T170000
DTEND:20231026T180000
SEQUENCE:0
RRULE:FREQ=WEEKLY;COUNT=25;INTERVAL=1;BYDAY=TH
TRANSP:OPAQUE
END:VEVENT
END:VCALENDAR