BEGIN:VCALENDAR
VERSION:2.0
PRODID:-//jEvents 2.0 for Joomla//EN
CALSCALE:GREGORIAN
METHOD:PUBLISH
BEGIN:VEVENT
UID:0c83124e8f3c26f25fb3d32dbf85e2cf
CATEGORIES:Vereine
CREATED:19700101T010000
SUMMARY:KVG Gamlen Garde
DESCRIPTION:<p>Garde und Showtanz (Gruppe Melina)</p>
DTSTAMP:20260421T214650
DTSTART:20231025T140000
DTEND:20231025T160000
SEQUENCE:0
RRULE:FREQ=WEEKLY;UNTIL=20240126T000000Z;INTERVAL=1;BYDAY=WE
TRANSP:OPAQUE
END:VEVENT
END:VCALENDAR